BEGIN:VCALENDAR
VERSION:2.0
PRODID:-//AccelerateKID&reg; - ECPv6.15.20//NONSGML v1.0//EN
CALSCALE:GREGORIAN
METHOD:PUBLISH
X-WR-CALNAME:AccelerateKID&reg;
X-ORIGINAL-URL:https://acceleratekid.com
X-WR-CALDESC:Events for AccelerateKID&reg;
REFRESH-INTERVAL;VALUE=DURATION:PT1H
X-Robots-Tag:noindex
X-PUBLISHED-TTL:PT1H
BEGIN:VTIMEZONE
TZID:UTC
BEGIN:STANDARD
TZOFFSETFROM:+0000
TZOFFSETTO:+0000
TZNAME:UTC
DTSTART:20170101T000000
END:STANDARD
END:VTIMEZONE
BEGIN:VEVENT
DTSTART;TZID=UTC:20181207T180000
DTEND;TZID=UTC:20181207T200000
DTSTAMP:20260422T001643
CREATED:20181103T060037Z
LAST-MODIFIED:20181126T233449Z
UID:3332-1544205600-1544212800@acceleratekid.com
SUMMARY:Gaming Meetup Parents Edition
DESCRIPTION:Join us every first Friday of the month to play popular games like Fortnite\, Roblox\, and Minecraft with other like-minded kids.  This is Gaming meetup at it’s finest! Members must bring their own laptop (PC/Mac) to participate.\nWe are ending this year gaming meetup in family! We want to invite you (the parent) to explore the world of gaming with their children. By playing popular games you can learn about the educational and awesome side of video games! Kids and parents will learn the latest updates on their favorite games\, play with or against each other families\, and compare ideas about game design while eating free popcorn! Our awesome gaming instructors will share secret tips and tricks to advance you to the next level. Save the date and experience the fun! \nFor the meetup\, please make sure you bring the following: \n\nBring your own laptop (PC / Mac)\nHave a power cord\nParents\n\nThe next event will take place at the Madison Heights and Wixom centers. If you have not created your account in the portal you can access it here. In the portal choose club you want to participate and register your kid. \nRegister Now
URL:https://acceleratekid.com/event/gmparentsedition/
CATEGORIES:Clubs,Madison Heights,Wixom
ATTACH;FMTTYPE=image/jpeg:https://acceleratekid.com/wp-content/uploads/2016/02/minecraft-meetup.jpg
END:VEVENT
BEGIN:VEVENT
DTSTART;TZID=UTC:20181207T180000
DTEND;TZID=UTC:20181207T200000
DTSTAMP:20260422T001643
CREATED:20181103T060036Z
LAST-MODIFIED:20181126T233418Z
UID:3374-1544205600-1544212800@acceleratekid.com
SUMMARY:Club Koding Parents Edition
DESCRIPTION:In honor of Code Week\, we are encouraging parents to explore the world of computer science!\nClub Koding is designed for kids ages 10-14 who have a passion for coding! This month\, in honor of Code Week parents and kids\, can join us to work on new projects using M.I.T. Scratch\, Javascript or Python programming languages. Computer science is for everybody\, we encourage you (the parent) to allow yourself to explore\, build and program real programs and apps next to your child. For the next club meetup parents can try to code using JavaScript and if they are lucky\, even program a quick game. Members are required to bring their own laptop to participate. \nThe next event will take place at the Madison Heights and Wixom centers. If you have not created your account in the portal you can access it here. In the portal choose club you want to participate and register your kid. \nRegister Now
URL:https://acceleratekid.com/event/clubkodingparentsedition/
CATEGORIES:Clubs,Madison Heights,Wixom
ATTACH;FMTTYPE=image/jpeg:https://acceleratekid.com/wp-content/uploads/2016/02/about1.jpg
END:VEVENT
BEGIN:VEVENT
DTSTART;TZID=UTC:20181116T180000
DTEND;TZID=UTC:20181116T200000
DTSTAMP:20260422T001643
CREATED:20181020T060014Z
LAST-MODIFIED:20181031T174341Z
UID:3380-1542391200-1542398400@acceleratekid.com
SUMMARY:Wixom Digital Girlz: 3D Printing Parents Edition
DESCRIPTION:Digital Girlz: 3D Printing Parents Edition\nCalling out to all the parents out there! We need your support to rally up more girls to get involved in S.T.E.A.M activities. The Digital Girlz Club are inviting parents to come experience how to design a 3D model using TinkerCAD.  Our Digital Girlz along side with their parents will work together to create\, design and then print out their 3D designs!  Join us & enjoy a Friday evening of creativity and free popcorn! \n[button link=”https://www.iclassprov2.com/parentportal/acceleratekid” color=”default” size=”large” stretch=”yes” type=”flat” shape=”square” target=”_blank” title=”” gradient_colors=”|” gradient_hover_colors=”|” accent_color=”” accent_hover_color=”” bevel_color=”” border_width=”1px” icon=”” icon_divider=”yes” icon_position=”left” modal=”” animation_type=”0″ animation_direction=”down” animation_speed=”0.1″ animation_offset=”” alignment=”left” class=”” id=””]Save Your Space Here![/button]
URL:https://acceleratekid.com/event/wixomdigitalgirlz-parentsedition/
CATEGORIES:Clubs,Wixom
ATTACH;FMTTYPE=image/jpeg:https://acceleratekid.com/wp-content/uploads/2018/10/9c996dd2-4391-4434-9d32-13d94c454340-e1541007739825.jpg
END:VEVENT
BEGIN:VEVENT
DTSTART;TZID=UTC:20181109T180000
DTEND;TZID=UTC:20181109T200000
DTSTAMP:20260422T001643
CREATED:20181013T060038Z
LAST-MODIFIED:20181026T021156Z
UID:3329-1541786400-1541793600@acceleratekid.com
SUMMARY:Club Koding: JavaScript Parents Edition
DESCRIPTION:Club Koding: JavaScript Parents Edition\nClub Koding is designed for kids ages 10-14 who have a passion for coding! Every month\, members meet to work in groups or individually on new projects using M.I.T. Scratch\, Javascript or Python programming languages. For the next club meetup parents can try coding in JavaScript and if they are lucky\, even program a quick game. Computer science is for everybody\, now parents have the chance to build real programs and apps that work on gadgets like phones and tablets with your child. How cool is that? \nMembers are required to bring their own laptop to participate. \n[button link=”https://www.iclassprov2.com/parentportal/acceleratekid” color=”default” size=”large” stretch=”yes” type=”flat” shape=”square” target=”_blank” title=”” gradient_colors=”|” gradient_hover_colors=”|” accent_color=”” accent_hover_color=”” bevel_color=”” border_width=”1px” icon=”” icon_divider=”yes” icon_position=”left” modal=”” animation_type=”0″ animation_direction=”down” animation_speed=”0.1″ animation_offset=”” alignment=”left” class=”” id=””]Save Your Space Here![/button]
URL:https://acceleratekid.com/event/clubkoding-javascript-parents/
CATEGORIES:Clubs,Wixom
ATTACH;FMTTYPE=image/jpeg:https://acceleratekid.com/wp-content/uploads/2017/02/SummerCamps-2016-073-e1516903180965.jpg
END:VEVENT
BEGIN:VEVENT
DTSTART;TZID=UTC:20181102T180000
DTEND;TZID=UTC:20181102T200000
DTSTAMP:20260422T001643
CREATED:20181006T060027Z
LAST-MODIFIED:20181030T150205Z
UID:3331-1541181600-1541188800@acceleratekid.com
SUMMARY:Gaming Meetup At Wixom & Madison Heights
DESCRIPTION:Gaming Meetup: Minecraft/Roblox Parents Edition\nParents and kids come join us and dive into some Minecraft and Roblox! The fun starts on Friday\, November 2nd with our awesome gaming instructors who will share secret tips and tricks to advance you to the next level.  Come share ideas and experience the fun!  Pop on in and we’ll provide the free popcorn. \nFor the meetup\, please make sure you bring the following: \n\nBring your own laptop (PC / Mac)\nHave a power cord\n\n[button link=”https://www.iclassprov2.com/parentportal/acceleratekid” color=”default” size=”large” stretch=”yes” type=”flat” shape=”square” target=”_blank” title=”” gradient_colors=”|” gradient_hover_colors=”|” accent_color=”” accent_hover_color=”” bevel_color=”” border_width=”1px” icon=”” icon_divider=”yes” icon_position=”left” modal=”” animation_type=”0″ animation_direction=”down” animation_speed=”0.1″ animation_offset=”” alignment=”left” class=”” id=””]Save Your Space Here![/button]
URL:https://acceleratekid.com/event/gamingmeetup-fortnite-parentsedition/
CATEGORIES:Clubs,Madison Heights,Wixom
ATTACH;FMTTYPE=image/jpeg:https://acceleratekid.com/wp-content/uploads/2018/10/File_008-e1540911653902.jpeg
END:VEVENT
BEGIN:VEVENT
DTSTART;TZID=UTC:20181019T180000
DTEND;TZID=UTC:20181019T200000
DTSTAMP:20260422T001643
CREATED:20180922T060052Z
LAST-MODIFIED:20181017T020848Z
UID:3379-1539972000-1539979200@acceleratekid.com
SUMMARY:Wixom Center: Digital Girlz: Movie Night
DESCRIPTION:Wixom Center: Digital Girlz: Movie Night\nGirls meet every 2nd and 3rd Friday of the month. Digital Girlz Club inspires all girls to practice\, invent and design their own projects. It’s a great way to make new friends and meet inspiring women from the S.T.E.A.M. field. For this month we have an exciting feature-length movie – Hidden Figures (An inspiring story of a team of female African-American mathematicians who served a vital role in NASA’s space program.) \n\nJoin us and bring a friend! FREE popcorn will be provided! \n[button link=”https://www.iclassprov2.com/parentportal/acceleratekid” color=”default” size=”large” stretch=”yes” type=”flat” shape=”square” target=”_blank” title=”” gradient_colors=”|” gradient_hover_colors=”|” accent_color=”” accent_hover_color=”” bevel_color=”” border_width=”1px” icon=”” icon_divider=”yes” icon_position=”left” modal=”” animation_type=”0″ animation_direction=”down” animation_speed=”0.1″ animation_offset=”” alignment=”left” class=”” id=””]Save Your Space Here![/button]
URL:https://acceleratekid.com/event/digital-girlz-club-friday-sep18-2-3/
CATEGORIES:Clubs,Wixom
ATTACH;FMTTYPE=image/jpeg:https://acceleratekid.com/wp-content/uploads/2018/10/hidden.figures_400x400.jpg
END:VEVENT
BEGIN:VEVENT
DTSTART;TZID=UTC:20181012T180000
DTEND;TZID=UTC:20181012T200000
DTSTAMP:20260422T001643
CREATED:20180915T060056Z
LAST-MODIFIED:20180411T210351Z
UID:3327-1539367200-1539374400@acceleratekid.com
SUMMARY:Wixom: Club Koding
DESCRIPTION:Club Koding is designed for kids ages 10-14 who have a passion to code! Every month\, members meet to work in groups or individually on new projects using Scratch and Javascript programming languages. Kids will have fun building real programs and apps that work on gadgets like phones and tablets. Members are required to bring their own laptop to participate and always keep all work completed. \n» REGISTER NOW!
URL:https://acceleratekid.com/event/club-koding-friday-2-2-2-2-2-2/
CATEGORIES:Clubs,Wixom
ATTACH;FMTTYPE=image/jpeg:https://acceleratekid.com/wp-content/uploads/2017/02/SummerCamps-2016-073-e1516903180965.jpg
END:VEVENT
BEGIN:VEVENT
DTSTART;TZID=UTC:20181005T180000
DTEND;TZID=UTC:20181005T200000
DTSTAMP:20260422T001643
CREATED:20180908T060023Z
LAST-MODIFIED:20180522T202654Z
UID:3330-1538762400-1538769600@acceleratekid.com
SUMMARY:Wixom: Gaming Meetup
DESCRIPTION:Love to play video games? We do too! Join us every first Friday of the month to play popular games like Fortnite\, Roblox\, and Minecraft with other like-minded kids. Kids will learn the latest updates on their favorite games\, play with or against each other\, and compare ideas about game design while eating free popcorn! This is Gaming meetup at it’s finest! Members must bring their own laptop (PC/Mac) to participate. \n[one_half] [/one_half]
URL:https://acceleratekid.com/event/minecraft-club-friday-august18-2/
CATEGORIES:Clubs,Wixom
ATTACH;FMTTYPE=image/jpeg:https://acceleratekid.com/wp-content/uploads/2016/02/minecraft-meetup.jpg
END:VEVENT
BEGIN:VEVENT
DTSTART;TZID=UTC:20180921T180000
DTEND;TZID=UTC:20180921T200000
DTSTAMP:20260422T001643
CREATED:20180818T060047Z
LAST-MODIFIED:20180510T212435Z
UID:3253-1537552800-1537560000@acceleratekid.com
SUMMARY:Wixom: Digital Girlz
DESCRIPTION:Get a sneak peek into the life of an ‘artist-tech’ and STEAM career within the tech industry (web designer or developer\, graphic designer\, coding games\, robotics design\, book publisher\, etc..). At the Digital Girlz Club\, girls ages 9-14 will take a walk into a new tech career each month. This club offers mentorship from experts in the tech industry\, mini tech lessons/projects\, and peer collaboration. Kids always keep their completed work to continue development and/or add to their portfolio. \n» REGISTER NOW!
URL:https://acceleratekid.com/event/digital-girlz-club-friday-sep18/
CATEGORIES:Clubs,Wixom
ATTACH;FMTTYPE=image/jpeg:https://acceleratekid.com/wp-content/uploads/2016/02/about3.jpg
END:VEVENT
BEGIN:VEVENT
DTSTART;TZID=UTC:20180914T180000
DTEND;TZID=UTC:20180914T200000
DTSTAMP:20260422T001643
CREATED:20180811T060004Z
LAST-MODIFIED:20180406T235700Z
UID:3239-1536948000-1536955200@acceleratekid.com
SUMMARY:Wixom: Club Koding
DESCRIPTION:Club Koding is designed for kids ages 10-14 who have a passion to code! Every month\, members meet to work in groups or individually on new projects using Scratch and Javascript programming languages. Kids will have fun building real programs and apps that work on gadgets like phones and tablets. Members are required to bring their own laptop to participate and always keep all work completed. \n» REGISTER NOW!
URL:https://acceleratekid.com/event/club-koding-friday-2-2-2-2-2/
CATEGORIES:Clubs,Wixom
ATTACH;FMTTYPE=image/jpeg:https://acceleratekid.com/wp-content/uploads/2017/02/SummerCamps-2016-073-e1516903180965.jpg
END:VEVENT
BEGIN:VEVENT
DTSTART;TZID=UTC:20180907T180000
DTEND;TZID=UTC:20180907T200000
DTSTAMP:20260422T001643
CREATED:20180804T060043Z
LAST-MODIFIED:20180510T205437Z
UID:3245-1536343200-1536350400@acceleratekid.com
SUMMARY:Wixom: Gaming Meetup
DESCRIPTION:Love Minecraft & Roblox? We do too! We are Michigan’s First Minecraft club. Join our monthly meetups for kids ages 7-14 years old and get the latest Minecraft & Roblox updates\, play on each other’s Minecraft server\, compare mods and meet other like-minded players in the area! This is a Gaming Networking at it’s finest. Members must bring their own laptop with a Minecraft PC/Mac account to participate. \n» REGISTER NOW!
URL:https://acceleratekid.com/event/minecraft-club-friday-sep18/
CATEGORIES:Clubs,Wixom
ATTACH;FMTTYPE=image/jpeg:https://acceleratekid.com/wp-content/uploads/2016/02/minecraft-meetup.jpg
END:VEVENT
BEGIN:VEVENT
DTSTART;TZID=UTC:20180817T180000
DTEND;TZID=UTC:20180817T200000
DTSTAMP:20260422T001643
CREATED:20180721T060034Z
LAST-MODIFIED:20180406T235713Z
UID:3252-1534528800-1534536000@acceleratekid.com
SUMMARY:Wixom: Digital Girlz
DESCRIPTION:Get a sneak peek into the life of an ‘artist-tech’ and STEAM career within the tech industry (web designer or developer\, graphic designer\, coding games\, robotics design\, book publisher\, etc..). At the Digital Girlz Club\, girls ages 9-14 will take a walk into a new tech career each month. This club offers mentorship from experts in the tech industry\, mini tech lessons/projects\, and peer collaboration. Kids always keep their completed work to continue development and/or add to their portfolio. \n» REGISTER NOW!
URL:https://acceleratekid.com/event/digital-girlz-club-friday-agst18/
CATEGORIES:Clubs,Wixom
ATTACH;FMTTYPE=image/jpeg:https://acceleratekid.com/wp-content/uploads/2016/02/about3.jpg
END:VEVENT
BEGIN:VEVENT
DTSTART;TZID=UTC:20180810T180000
DTEND;TZID=UTC:20180810T200000
DTSTAMP:20260422T001643
CREATED:20180614T060058Z
LAST-MODIFIED:20180406T235735Z
UID:3238-1533924000-1533931200@acceleratekid.com
SUMMARY:Wixom: Club Koding
DESCRIPTION:Club Koding is designed for kids ages 10-14 who have a passion to code! Every month\, members meet to work in groups or individually on new projects using Scratch and Javascript programming languages. Kids will have fun building real programs and apps that work on gadgets like phones and tablets. Members are required to bring their own laptop to participate and always keep all work completed. \n» REGISTER NOW!
URL:https://acceleratekid.com/event/club-koding-friday-2-2-2-2/
CATEGORIES:Clubs,Wixom
ATTACH;FMTTYPE=image/jpeg:https://acceleratekid.com/wp-content/uploads/2017/02/SummerCamps-2016-073-e1516903180965.jpg
END:VEVENT
BEGIN:VEVENT
DTSTART;TZID=UTC:20180803T180000
DTEND;TZID=UTC:20180803T200000
DTSTAMP:20260422T001643
CREATED:20180707T060026Z
LAST-MODIFIED:20180522T202706Z
UID:3244-1533319200-1533326400@acceleratekid.com
SUMMARY:Wixom: Gaming Meetup
DESCRIPTION:Love to play video games? We do too! Join us every first Friday of the month to play popular games like Fortnite\, Roblox\, and Minecraft with other like-minded kids. Kids will learn the latest updates on their favorite games\, play with or against each other\, and compare ideas about game design while eating free popcorn! This is Gaming meetup at it’s finest! Members must bring their own laptop (PC/Mac) to participate. \n[one_half] [/one_half]
URL:https://acceleratekid.com/event/minecraft-club-friday-august18/
CATEGORIES:Clubs,Wixom
ATTACH;FMTTYPE=image/jpeg:https://acceleratekid.com/wp-content/uploads/2016/02/minecraft-meetup.jpg
END:VEVENT
BEGIN:VEVENT
DTSTART;TZID=UTC:20180720T180000
DTEND;TZID=UTC:20180720T200000
DTSTAMP:20260422T001643
CREATED:20180616T060014Z
LAST-MODIFIED:20180406T235729Z
UID:3250-1532109600-1532116800@acceleratekid.com
SUMMARY:Wixom: Digital Girlz
DESCRIPTION:Get a sneak peek into the life of an ‘artist-tech’ and STEAM career within the tech industry (web designer or developer\, graphic designer\, coding games\, robotics design\, book publisher\, etc..). At the Digital Girlz Club\, girls ages 9-14 will take a walk into a new tech career each month. This club offers mentorship from experts in the tech industry\, mini tech lessons/projects\, and peer collaboration. Kids always keep their completed work to continue development and/or add to their portfolio. \n» REGISTER NOW!
URL:https://acceleratekid.com/event/digital-girlz-club-friday-july18/
CATEGORIES:Clubs,Wixom
ATTACH;FMTTYPE=image/jpeg:https://acceleratekid.com/wp-content/uploads/2016/02/about3.jpg
END:VEVENT
BEGIN:VEVENT
DTSTART;TZID=UTC:20180713T180000
DTEND;TZID=UTC:20180713T200000
DTSTAMP:20260422T001643
CREATED:20180609T060048Z
LAST-MODIFIED:20180406T235741Z
UID:3237-1531504800-1531512000@acceleratekid.com
SUMMARY:Wixom: Club Koding
DESCRIPTION:Club Koding is designed for kids ages 10-14 who have a passion to code! Every month\, members meet to work in groups or individually on new projects using Scratch and Javascript programming languages. Kids will have fun building real programs and apps that work on gadgets like phones and tablets. Members are required to bring their own laptop to participate and always keep all work completed. \n» REGISTER NOW!
URL:https://acceleratekid.com/event/club-koding-friday-2-2/
CATEGORIES:Clubs,Wixom
ATTACH;FMTTYPE=image/jpeg:https://acceleratekid.com/wp-content/uploads/2017/02/SummerCamps-2016-073-e1516903180965.jpg
END:VEVENT
BEGIN:VEVENT
DTSTART;TZID=UTC:20180706T180000
DTEND;TZID=UTC:20180706T200000
DTSTAMP:20260422T001643
CREATED:20180505T060031Z
LAST-MODIFIED:20180510T205514Z
UID:3246-1530900000-1530907200@acceleratekid.com
SUMMARY:Wixom: Gaming Meetup
DESCRIPTION:Love Minecraft & Roblox? We do too! We are Michigan’s First Minecraft club. Join our monthly meetups for kids ages 7-14 years old and get the latest Minecraft & Roblox updates\, play on each other’s Minecraft server\, compare mods and meet other like-minded players in the area! This is a Gaming Networking at it’s finest. Members must bring their own laptop with a Minecraft PC/Mac account to participate. \n» REGISTER NOW!
URL:https://acceleratekid.com/event/minecraft-club-friday-june18-2/
CATEGORIES:Clubs,Wixom
ATTACH;FMTTYPE=image/jpeg:https://acceleratekid.com/wp-content/uploads/2016/02/minecraft-meetup.jpg
END:VEVENT
BEGIN:VEVENT
DTSTART;TZID=UTC:20180615T180000
DTEND;TZID=UTC:20180615T200000
DTSTAMP:20260422T001643
CREATED:20180519T060036Z
LAST-MODIFIED:20180406T235640Z
UID:3251-1529085600-1529092800@acceleratekid.com
SUMMARY:Wixom: Digital Girlz
DESCRIPTION:Get a sneak peek into the life of an ‘artist-tech’ and STEAM career within the tech industry (web designer or developer\, graphic designer\, coding games\, robotics design\, book publisher\, etc..). At the Digital Girlz Club\, girls ages 9-14 will take a walk into a new tech career each month. This club offers mentorship from experts in the tech industry\, mini tech lessons/projects\, and peer collaboration. Kids always keep their completed work to continue development and/or add to their portfolio. \n» REGISTER NOW!
URL:https://acceleratekid.com/event/digital-girlz-club-friday-june18/
CATEGORIES:Clubs,Wixom
ATTACH;FMTTYPE=image/jpeg:https://acceleratekid.com/wp-content/uploads/2016/02/about3.jpg
END:VEVENT
BEGIN:VEVENT
DTSTART;TZID=UTC:20180601T180000
DTEND;TZID=UTC:20180601T200000
DTSTAMP:20260422T001643
CREATED:20180602T060038Z
LAST-MODIFIED:20180510T205452Z
UID:3243-1527876000-1527883200@acceleratekid.com
SUMMARY:Wixom: Gaming Meetup
DESCRIPTION:Love Minecraft & Roblox? We do too! We are Michigan’s First Minecraft club. Join our monthly meetups for kids ages 7-14 years old and get the latest Minecraft & Roblox updates\, play on each other’s Minecraft server\, compare mods and meet other like-minded players in the area! This is a Gaming Networking at it’s finest. Members must bring their own laptop with a Minecraft PC/Mac account to participate. \n» REGISTER NOW!
URL:https://acceleratekid.com/event/minecraft-club-friday-july18/
CATEGORIES:Clubs,Wixom
ATTACH;FMTTYPE=image/jpeg:https://acceleratekid.com/wp-content/uploads/2016/02/minecraft-meetup.jpg
END:VEVENT
BEGIN:VEVENT
DTSTART;TZID=UTC:20180601T180000
DTEND;TZID=UTC:20180601T200000
DTSTAMP:20260422T001643
CREATED:20180506T060016Z
LAST-MODIFIED:20180522T203451Z
UID:3242-1527876000-1527883200@acceleratekid.com
SUMMARY:Wixom: Gaming Meetup
DESCRIPTION:Love to play video games? We do too! Join us every first Friday of the month to play popular games like Fortnite\, Roblox\, and Minecraft with other like-minded kids. Kids will learn the latest updates on their favorite games\, play with or against each other\, and compare ideas about game design while eating free popcorn! This is Gaming meetup at it’s finest! Members must bring their own laptop (PC/Mac) to participate. \n[one_half] [/one_half]
URL:https://acceleratekid.com/event/minecraft-club-friday-june18/
CATEGORIES:Clubs,Wixom
ATTACH;FMTTYPE=image/jpeg:https://acceleratekid.com/wp-content/uploads/2018/05/IMG_1296.jpeg
END:VEVENT
BEGIN:VEVENT
DTSTART;TZID=UTC:20180518T180000
DTEND;TZID=UTC:20180518T200000
DTSTAMP:20260422T001643
CREATED:20180421T060009Z
LAST-MODIFIED:20180406T235824Z
UID:3249-1526666400-1526673600@acceleratekid.com
SUMMARY:Wixom: Digital Girlz
DESCRIPTION:Get a sneak peek into the life of an ‘artist-tech’ and STEAM career within the tech industry (web designer or developer\, graphic designer\, coding games\, robotics design\, book publisher\, etc..). At the Digital Girlz Club\, girls ages 9-14 will take a walk into a new tech career each month. This club offers mentorship from experts in the tech industry\, mini tech lessons/projects\, and peer collaboration. Kids always keep their completed work to continue development and/or add to their portfolio. \n» REGISTER NOW!
URL:https://acceleratekid.com/event/digital-girlz-club-friday-may18/
CATEGORIES:Clubs,Wixom
ATTACH;FMTTYPE=image/jpeg:https://acceleratekid.com/wp-content/uploads/2016/02/about3.jpg
END:VEVENT
BEGIN:VEVENT
DTSTART;TZID=UTC:20180511T180000
DTEND;TZID=UTC:20180511T200000
DTSTAMP:20260422T001643
CREATED:20180414T060058Z
LAST-MODIFIED:20180406T235831Z
UID:3236-1526061600-1526068800@acceleratekid.com
SUMMARY:Wixom: Club Koding
DESCRIPTION:Club Koding is designed for kids ages 10-14 who have a passion to code! Every month\, members meet to work in groups or individually on new projects using Scratch and Javascript programming languages. Kids will have fun building real programs and apps that work on gadgets like phones and tablets. Members are required to bring their own laptop to participate and always keep all work completed. \n» REGISTER NOW!
URL:https://acceleratekid.com/event/club-koding-friday-2/
CATEGORIES:Clubs,Wixom
ATTACH;FMTTYPE=image/jpeg:https://acceleratekid.com/wp-content/uploads/2017/02/SummerCamps-2016-073-e1516903180965.jpg
END:VEVENT
BEGIN:VEVENT
DTSTART;TZID=UTC:20180504T180000
DTEND;TZID=UTC:20180504T200000
DTSTAMP:20260422T001643
CREATED:20180407T060002Z
LAST-MODIFIED:20180426T210130Z
UID:3241-1525456800-1525464000@acceleratekid.com
SUMMARY:Wixom: Minecraft Meetup - Emagine Minecraft Tournament Sneak Peek
DESCRIPTION:Love Minecraft & Roblox? We do too! We are Michigan’s First Minecraft club. Join our monthly meetups for kids ages 7-14 years old and get the latest Minecraft & Roblox updates\, play on each other’s Minecraft server\, compare mods and meet other like-minded players in the area! This is a Gaming Networking at it’s finest. Members must bring their own laptop with a Minecraft PC/Mac account to participate. \n» REGISTER NOW!
URL:https://acceleratekid.com/event/minecraft-club-friday-may18/
CATEGORIES:Clubs,Wixom
ATTACH;FMTTYPE=image/jpeg:https://acceleratekid.com/wp-content/uploads/2016/02/minecraft-meetup.jpg
END:VEVENT
BEGIN:VEVENT
DTSTART;TZID=UTC:20180420T180000
DTEND;TZID=UTC:20180420T200000
DTSTAMP:20260422T001643
CREATED:20180403T233253Z
LAST-MODIFIED:20180414T194424Z
UID:3247-1524247200-1524254400@acceleratekid.com
SUMMARY:Wixom: Digital Girlz
DESCRIPTION:Get a sneak peek into the life of an ‘artist-tech’ and STEAM career within the tech industry (web designer or developer\, graphic designer\, coding games\, robotics design\, book publisher\, etc..). At the Digital Girlz Club\, girls ages 9-14 will take a walk into a new tech career each month. This club offers mentorship from experts in the tech industry\, mini tech lessons/projects\, and peer collaboration. Kids always keep their completed work to continue development and/or add to their portfolio. \n[button link=”https://app.iclasspro.com/parentportal/acceleratekid/camps” color=”default” size=”small” stretch=”no” type=”” shape=”” target=”_blank” title=”” gradient_colors=”|” gradient_hover_colors=”|” accent_color=”” accent_hover_color=”” bevel_color=”” border_width=”” icon=”” icon_position=”left” icon_divider=”no” modal=”” animation_type=”0″ animation_direction=”left” animation_speed=”1″ animation_offset=”” alignment=”” class=”” id=””]REGISTER NOW![/button]
URL:https://acceleratekid.com/event/digital-girlz-club-friday-april18/
CATEGORIES:Clubs,Wixom
ATTACH;FMTTYPE=image/jpeg:https://acceleratekid.com/wp-content/uploads/2016/02/about3.jpg
END:VEVENT
BEGIN:VEVENT
DTSTART;TZID=UTC:20180413T180000
DTEND;TZID=UTC:20180413T200000
DTSTAMP:20260422T001643
CREATED:20171109T175618Z
LAST-MODIFIED:20180406T235910Z
UID:3023-1523642400-1523649600@acceleratekid.com
SUMMARY:Wixom: Club Koding
DESCRIPTION:Club Koding is designed for kids ages 10-14 who have a passion to code! Every month\, members meet to work in groups or individually on new projects using Scratch and Javascript programming languages. Kids will have fun building real programs and apps that work on gadgets like phones and tablets. Members are required to bring their own laptop to participate and always keep all work completed. \n» REGISTER NOW!
URL:https://acceleratekid.com/event/club-koding-friday/
CATEGORIES:Clubs,Wixom
ATTACH;FMTTYPE=image/jpeg:https://acceleratekid.com/wp-content/uploads/2017/02/SummerCamps-2016-073-e1516903180965.jpg
END:VEVENT
BEGIN:VEVENT
DTSTART;TZID=UTC:20180406T180000
DTEND;TZID=UTC:20180406T200000
DTSTAMP:20260422T001643
CREATED:20180403T231250Z
LAST-MODIFIED:20180406T235902Z
UID:3240-1523037600-1523044800@acceleratekid.com
SUMMARY:Wixom: Michigan's First Minecraft Club
DESCRIPTION:Love Minecraft & Roblox? We do too! We are Michigan’s First Minecraft club. Join our monthly meetups for kids ages 7-14 years old and get the latest Minecraft & Roblox updates\, play on each other’s Minecraft server\, compare mods and meet other like-minded players in the area! This is a Gaming Networking at it’s finest. Members must bring their own laptop with a Minecraft PC/Mac account to participate. \n» REGISTER NOW!
URL:https://acceleratekid.com/event/minecraft-club-friday-april18/
CATEGORIES:Clubs,Wixom
ATTACH;FMTTYPE=image/jpeg:https://acceleratekid.com/wp-content/uploads/2016/02/minecraft-meetup.jpg
END:VEVENT
END:VCALENDAR