BEGIN:VCALENDAR
VERSION:2.0
PRODID:-//AccelerateKID&reg; - ECPv6.15.20//NONSGML v1.0//EN
CALSCALE:GREGORIAN
METHOD:PUBLISH
X-WR-CALNAME:AccelerateKID&reg;
X-ORIGINAL-URL:https://acceleratekid.com
X-WR-CALDESC:Events for AccelerateKID&reg;
REFRESH-INTERVAL;VALUE=DURATION:PT1H
X-Robots-Tag:noindex
X-PUBLISHED-TTL:PT1H
BEGIN:VTIMEZONE
TZID:UTC
BEGIN:STANDARD
TZOFFSETFROM:+0000
TZOFFSETTO:+0000
TZNAME:UTC
DTSTART:20170101T000000
END:STANDARD
END:VTIMEZONE
BEGIN:VEVENT
DTSTART;TZID=UTC:20180916T120000
DTEND;TZID=UTC:20180916T150000
DTSTAMP:20260422T114138
CREATED:20180813T094902Z
LAST-MODIFIED:20180828T183409Z
UID:3493-1537099200-1537110000@acceleratekid.com
SUMMARY:AccelerateKID® 5th Birthday Bash & Open House\, Madison Heights
DESCRIPTION:AccelerateKID® 5th Birthday Bash & Open House\, Madison Heights\nAccelerateKID® is celebrating its 5th birthday with our community this September and we want to invite you. We’ll have a couple of birthday bashes and open houses at each of our location for families and kids to enjoy a day of technology including coding\, game design\, robotics and 3D printing. There will be lots of food and games for the family to go along with a raffle giveaway every hour. It’s an opportunity for us to say “thank you” and for families to visit us if they haven’t already. Register in advance to get a free AccelerateKID keychain 3D print HERE when you attend.  \nDATE: Sunday\, September 16th\nTIME: 12 PM – 3 PM\nLOCATION: AccelerateKID Madison Heights\nADDRESS: 32640 Concord Drive\, Madison Heights\, MI 48071 \n[button link=”https://docs.google.com/forms/d/e/1FAIpQLSfflknXAL8t0OPWiCgsa4190QVnVQaufHVnTcXYapOdTgP0qg/viewform?usp=sf_link” color=”default” size=”large” stretch=”yes” type=”” shape=”” target=”_blank” title=”” gradient_colors=”|” gradient_hover_colors=”|” accent_color=”” accent_hover_color=”” bevel_color=”” border_width=”” icon=”” icon_position=”left” icon_divider=”no” modal=”” animation_type=”0″ animation_direction=”left” animation_speed=”1″ animation_offset=”” alignment=”” class=”” id=””]Register Here And Get A 3D Keychain![/button][checklist icon=”fa-file-o” iconcolor=”” circle=”yes” circlecolor=”” size=”13px” class=”” id=””]
URL:https://acceleratekid.com/event/2018-fall-open-house-madisonheights/
LOCATION:AccelerateKID\, Madison Heights Center\, 32640 Concord Drive\, Madison Heights\, MI\, 48071\, United States
CATEGORIES:AccelerateKID Event
ATTACH;FMTTYPE=image/jpeg:https://acceleratekid.com/wp-content/uploads/2018/08/File_000-2.jpeg
END:VEVENT
BEGIN:VEVENT
DTSTART;TZID=UTC:20180909T120000
DTEND;TZID=UTC:20180909T150000
DTSTAMP:20260422T114138
CREATED:20180813T094625Z
LAST-MODIFIED:20180829T132115Z
UID:3491-1536494400-1536505200@acceleratekid.com
SUMMARY:AccelerateKID® 5th Birthday Bash & Open House\, Wixom
DESCRIPTION:AccelerateKID® 5th Birthday Bash & Open House\, Wixom\nAccelerateKID® is celebrating its 5th birthday with our community this September and we want to invite you. We’ll have a couple of birthday bashes and open houses at each of our location for families and kids to enjoy a day of technology including coding\, game design\, robotics and 3D printing. There will be lots of food and games for the family to go along with a raffle giveaway every hour. It’s an opportunity for us to say “thank you” and for families to visit us if they haven’t already. Register in advance to get a free AccelerateKID keychain 3D print HERE when you attend.  \nDATE: Sunday\, September 9th\nTIME: 12 PM – 3 PM\nLOCATION: AccelerateKID Wixom\nADDRESS: 28265 Beck Road\, Ste C-17\, Wixom\, MI 48393 \n[button link=”https://docs.google.com/forms/d/e/1FAIpQLSfflknXAL8t0OPWiCgsa4190QVnVQaufHVnTcXYapOdTgP0qg/viewform?usp=sf_link” color=”default” size=”large” stretch=”yes” type=”” shape=”” target=”_blank” title=”” gradient_colors=”|” gradient_hover_colors=”|” accent_color=”” accent_hover_color=”” bevel_color=”” border_width=”” icon=”” icon_position=”left” icon_divider=”no” modal=”” animation_type=”0″ animation_direction=”left” animation_speed=”1″ animation_offset=”” alignment=”” class=”” id=””]Register Here And Get A 3D Keychain![/button][checklist icon=”fa-file-o” iconcolor=”” circle=”yes” circlecolor=”” size=”13px” class=”” id=””]
URL:https://acceleratekid.com/event/2018-fall-open-house-wixom/
LOCATION:AccelerateKID Center\, 24404 Catherine Industrial Dr\, Ste 316\, Novi\, MI\, 48375\, United States
CATEGORIES:AccelerateKID Event
ATTACH;FMTTYPE=image/jpeg:https://acceleratekid.com/wp-content/uploads/2018/08/File_000-2.jpeg
END:VEVENT
BEGIN:VEVENT
DTSTART;TZID=UTC:20180728T090000
DTEND;TZID=UTC:20180729T180000
DTSTAMP:20260422T114138
CREATED:20180629T180801Z
LAST-MODIFIED:20180723T191608Z
UID:3434-1532768400-1532887200@acceleratekid.com
SUMMARY:4th Annual Hackathon Maker Faire Detroit
DESCRIPTION:4th Annual Hackathon Maker Faire Detroit\nMaker Faire® Detroit\, at The Henry Ford\, gathers 10\,000 STEAM (science\, technology\, engineering\, arts\, and math.) curious visitor from around the United States. For the 4th year in a row inside the Faire\, kids gather to participate at the Hackathon with AccelerateKID. On Saturday\, July 28\, we’ll have 50 Detroit kids participating in the Maker Faire® Detroit hackathon to learn about computer science and game development using Javascript programming language. It’s an all-day event for kids to explore coding and the innovative activities at the Faire. \nKids that learn computer science develop critical thinking and problem-solving skills. Many schools are integrating STEAM workshops to teach students how fun can be to program a robot or program an app that solves problems in their communities. During the hackathon\, kids will develop an innovative app that will be presented to judges for prizes at the end of the day. They will work in teams and attend educational workshops in a fun and educational environment. The event is free for the kids. Its estimated that by 2020 coding jobs will go unfill and an average salary for computing occupation is $80\,478. \nIf you are an organization working with inner city youth in Detroit that wants to participate in the hackathon and Maker Faire® Detroit\, then fill this form here.
URL:https://acceleratekid.com/event/5th-annual-hackathon-maker-faire-detroit/
LOCATION:MI
CATEGORIES:AccelerateKID Event
ATTACH;FMTTYPE=image/jpeg:https://acceleratekid.com/wp-content/uploads/2018/07/11215742_531478470343068_1320844940937628200_n-e1531363372535.jpg
END:VEVENT
BEGIN:VEVENT
DTSTART;TZID=UTC:20180721T080000
DTEND;TZID=UTC:20180721T150000
DTSTAMP:20260422T114138
CREATED:20180717T194724Z
LAST-MODIFIED:20180717T194724Z
UID:3449-1532160000-1532185200@acceleratekid.com
SUMMARY:STEM EXPO/Youth Day
DESCRIPTION:STEM EXPO/Youth Day is an event to bring Science\, Technology\, Engineering\, and Math together to Detroit Public Schools Community District students and parents/guardians. 21st Century Community Learning Center is hosting a STEM expo and field day for all Cooke families and students.
URL:https://acceleratekid.com/event/stem-expo-youth-day/
LOCATION:MI
CATEGORIES:AccelerateKID Event
ATTACH;FMTTYPE=image/png:https://acceleratekid.com/wp-content/uploads/2018/07/Screen-Shot-2018-07-17-at-3.29.35-PM.png
END:VEVENT
BEGIN:VEVENT
DTSTART;TZID=UTC:20180622T183000
DTEND;TZID=UTC:20180622T183000
DTSTAMP:20260422T114138
CREATED:20180615T223450Z
LAST-MODIFIED:20180615T234436Z
UID:3426-1529692200-1529692200@acceleratekid.com
SUMMARY:Quicken Loans Detroit Demo Day
DESCRIPTION:From nearly 500 applicants\, 15 entrepreneurs have been selected to pitch their company live on stage at Quicken Loans Detroit Demo Day! The companies pitching include new startups\, existing small businesses\, and nationally expanding ventures. \nA panel of nationally-recognized judges will pick seven winners who will receive their share of $1 million. In addition\, the live audience will vote on the “People’s Choice” awards using the Detroit Demo Day App. \nA Happy Hour Event will kickoff at 5:00 pm outside of the Music Hall and will include local food trucks\, drinks\, plus the opportunity to meet the entrepreneurs. \n \nThe night will conclude with a Live Musical Performance from a Grammy-award winning Def Jam artist. \nFor more information\, please visit Detroit Demo Day. ¡Save your space here! \n 
URL:https://acceleratekid.com/event/quicken-loans-detroit-demo-day/
LOCATION:MI
CATEGORIES:AccelerateKID Event
ATTACH;FMTTYPE=image/png:https://acceleratekid.com/wp-content/uploads/2018/06/WEBslider-QLDetroitDemoDay-FINALIST.png
END:VEVENT
BEGIN:VEVENT
DTSTART;TZID=UTC:20180603T113000
DTEND;TZID=UTC:20180603T160000
DTSTAMP:20260422T114138
CREATED:20180408T051950Z
LAST-MODIFIED:20180429T022746Z
UID:3322-1528025400-1528041600@acceleratekid.com
SUMMARY:Demo Day / Open House
DESCRIPTION:The Demo Day/Open House this spring will be held at the AccelerateKID Madison Heights Center on Sunday\, June 3rd. Students and families can register for a Demo Day presentation session and at least one of the following activities: Hack-a-Thon Competition or Minecraft: Hunger Games. Guests and non-students can attend but cannot participate in the activities because of the limited space. \nThe registration will be close on Wednesday\, May 30th 2018. \n\n11:30am – 4:00pm / Hackathon\n12:00pm – 1:30pm / Demo Presentation\n1:30pm – 2:30pm / Minecraft Tournament\n2:30pm – 4:00pm / Demo & Hackathon Finals\n\n\nCoding Workshops\nTake a Tour\nFree Food\nOnsite Discount\n\n[button link=”https://docs.google.com/forms/d/e/1FAIpQLSc3vx2TZhHujsrjesxvAY1IwrfOPp_hZfwNAkc7abPNEcCplQ/viewform?usp=sf_link” color=”default” size=”small” stretch=”no” type=”” shape=”” target=”_blank” title=”” gradient_colors=”|” gradient_hover_colors=”|” accent_color=”” accent_hover_color=”” bevel_color=”” border_width=”” icon=”” icon_position=”left” icon_divider=”no” modal=”” animation_type=”0″ animation_direction=”left” animation_speed=”1″ animation_offset=”” alignment=”” class=”” id=””]Register Now[/button]
URL:https://acceleratekid.com/event/demo-day-open-house/
LOCATION:AccelerateKID\, Madison Heights Center\, 32640 Concord Drive\, Madison Heights\, MI\, 48071\, United States
CATEGORIES:AccelerateKID Event
ATTACH;FMTTYPE=image/jpeg:https://acceleratekid.com/wp-content/uploads/2018/04/demoday-hack-a-thonspring18.jpg
END:VEVENT
BEGIN:VEVENT
DTSTART;TZID=UTC:20180520T120000
DTEND;TZID=UTC:20180520T160000
DTSTAMP:20260422T114138
CREATED:20180419T220539Z
LAST-MODIFIED:20180510T174407Z
UID:3340-1526817600-1526832000@acceleratekid.com
SUMMARY:Minecraft Tournament
DESCRIPTION:AccelerateKID® and Emagine Entertainment invite you to the Minecraft Tournament on Sunday\, May 20th at the Emagine Novi. Kids ages 7-14 will have an opportunity to show-off their Minecraft building and survival skills in two challenges in a fun and competitive environment. \n\nThe Minecraft Creative Tournament will let kids compete in a fun and creative challenge using the popular Minecraft game. Kids can test their knowledge and skills in building and designing. Players will get 60 minutes to develop their structure according to the requirements set forth at the beginning of the tournament. Afterward\, all constructions will be voted and the player with the most votes will win prizes and bragging rights. Players must bring their own laptop\, power cord\, and Minecraft PC edition account. You can bring headphones\, mouse\, keyboard and any device for playing. We are not responsible for any computer bugs or lag issues.\nThe Minecraft Survival Tournament will let kids compete and battle to survive in a Hunger Games-style arena using the popular Minecraft game. Kids ages 7-14 can test their knowledge and survival skills using strategy and wit. Players will get four 15-minute rounds to eliminate their opponents. There will be a point system for each elimination and the player with the most point at the end of four rounds will be crowned the champion. The challenges will be announced at the beginning of the tournament. Players must bring their own laptop\, power cord\, and Minecraft PC edition account. You can bring headphones\, keyboard\, mouse and any device for playing. We are not responsible for any computer bugs or lag issues.\n\nREMINDER TO KIDS: To make sure every child have an enjoyable time at the Minecraft Tournament\, here are some reminders. Kids must bring their own laptop\, power cord and Minecraft PC/Mac Edition account (NOT Pocket Edition\, Xbox Edition\, Playstation Edition). For Minecraft system requirement\, visit the Minecraft website at www.Minecraft.net. Prior to the tournament\, it is recommended that kids log out of any computer they’ve used their PC/Mac Edition account on to avoid issues of logging on to their laptop at the time of the tournament. You can bring headphones\, mouse\, and keyboard to play Minecraft. Emagine Novi theatre and AccelerateKID are not responsible for any laptop or lagging issues that might occur during the tournament. LET’S PLAY! \n  \n[one_half] [/one_half]
URL:https://acceleratekid.com/event/minecraft-tournament/
LOCATION:MI
CATEGORIES:AccelerateKID Event
ATTACH;FMTTYPE=image/jpeg:https://acceleratekid.com/wp-content/uploads/2018/04/MinecraftTournament-Emagine-uptdSlider.jpg
END:VEVENT
BEGIN:VEVENT
DTSTART;TZID=UTC:20180414T090000
DTEND;TZID=UTC:20180414T120000
DTSTAMP:20260422T114138
CREATED:20180407T013549Z
LAST-MODIFIED:20180407T020041Z
UID:3279-1523696400-1523707200@acceleratekid.com
SUMMARY:Summer Camp Sneak Peek
DESCRIPTION:Join us at the Recreation Activities Center for Camps Previews! Come out to West Bloomfield and see all the available camps in the area. Bring your kids to enjoy games\, crafts\, face painting\, tattoos and more.  FREE refreshments (while supplies last). \n  \n[one_half][button link=”https://business.facebook.com/events/557288327974016/?active_tab=about” color=”default” size=”small” stretch=”no” type=”” shape=”” target=”_blank” title=”” gradient_colors=”|” gradient_hover_colors=”|” accent_color=”” accent_hover_color=”” bevel_color=”” border_width=”” icon=”” icon_position=”left” icon_divider=”no” modal=”” animation_type=”0″ animation_direction=”left” animation_speed=”1″ animation_offset=”” alignment=”” class=”” id=””]Register Now![/button][/one_half] \n[button link=”https://wego.here.com/directions/mix//West-Bloomfield-Parks\,-4640-Walnut-Lake-Rd\,-48323-West-Bloomfield-Township:e-eyJuYW1lIjoiV2VzdCBCbG9vbWZpZWxkIFBhcmtzIiwiYWRkcmVzcyI6IjQ2NDAgV2FsbnV0IExha2UgUmQsIFdlc3QgQmxvb21maWVsZCBUb3duc2hpcCwgTWljaGlnYW4gNDgzMjMiLCJsYXRpdHVkZSI6NDIuNTU4OTU2MTUyMjg4LCJsb25naXR1ZGUiOi04My4zNzQyMDU4ODQzMTMsInByb3ZpZGVyTmFtZSI6ImZhY2Vib29rIiwicHJvdmlkZXJJZCI6MTg5OTk0MjYzMDQ3fQ==?map=42.55896\,-83.37421\,15\,normal&fb_locale=en_US” color=”default” size=”small” stretch=”no” type=”” shape=”” target=”_blank” title=”” gradient_colors=”|” gradient_hover_colors=”|” accent_color=”” accent_hover_color=”” bevel_color=”” border_width=”” icon=”” icon_position=”left” icon_divider=”no” modal=”” animation_type=”0″ animation_direction=”left” animation_speed=”1″ animation_offset=”” alignment=”” class=”” id=””]Map Directions[/button] \n 
URL:https://acceleratekid.com/event/summer-camp-sneak-peek/
LOCATION:MI
CATEGORIES:AccelerateKID Event
ATTACH;FMTTYPE=image/jpeg:https://acceleratekid.com/wp-content/uploads/2018/04/acceleretaTeam-campexpo.jpg
END:VEVENT
BEGIN:VEVENT
DTSTART;TZID=UTC:20180407T080000
DTEND;TZID=UTC:20180407T170000
DTSTAMP:20260422T114138
CREATED:20180407T023421Z
LAST-MODIFIED:20180407T023421Z
UID:3285-1523088000-1523120400@acceleratekid.com
SUMMARY:Macaroni Kid Summer Camp Expo
DESCRIPTION:Summer Camp & Activities Expo at Cranbrook Institute of Science\, will reach over 30\,000 parents! Get in front of hundreds of local parents looking for activities for children this year. Learn about all the summer activities in Oakland County. Now is the time to reserve your spot! \n[button link=”https://science.cranbrook.edu/explore/programs/summer-camp-2018″ color=”default” size=”small” stretch=”no” type=”” shape=”” target=”_blank” title=”” gradient_colors=”|” gradient_hover_colors=”|” accent_color=”” accent_hover_color=”” bevel_color=”” border_width=”” icon=”” icon_position=”left” icon_divider=”no” modal=”” animation_type=”0″ animation_direction=”left” animation_speed=”1″ animation_offset=”” alignment=”” class=”” id=””]Learn More![/button]
URL:https://acceleratekid.com/event/macaroni-kid-summer-camp-expo/
LOCATION:MI
CATEGORIES:AccelerateKID Event
ATTACH;FMTTYPE=image/jpeg:https://acceleratekid.com/wp-content/uploads/2018/04/expoevent-macaronikid18.jpg
END:VEVENT
END:VCALENDAR